BEGIN:VCALENDAR
VERSION:2.0
PRODID:-//WinsurTech | AL3, Virtual Assistants, ACORD Forms, ACORD XML, - ECPv6.15.11//NONSGML v1.0//EN
CALSCALE:GREGORIAN
METHOD:PUBLISH
X-WR-CALNAME:WinsurTech | AL3, Virtual Assistants, ACORD Forms, ACORD XML,
X-ORIGINAL-URL:https://winsurtech.com
X-WR-CALDESC:Events for WinsurTech | AL3, Virtual Assistants, ACORD Forms, ACORD XML,
REFRESH-INTERVAL;VALUE=DURATION:PT1H
X-Robots-Tag:noindex
X-PUBLISHED-TTL:PT1H
BEGIN:VTIMEZONE
TZID:UTC
BEGIN:STANDARD
TZOFFSETFROM:+0000
TZOFFSETTO:+0000
TZNAME:UTC
DTSTART:20240101T000000
END:STANDARD
END:VTIMEZONE
BEGIN:VEVENT
DTSTART;VALUE=DATE:20251225
DTEND;VALUE=DATE:20251226
DTSTAMP:20260423T192906
CREATED:20241202T114340Z
LAST-MODIFIED:20241202T114400Z
UID:28153-1766620800-1766707199@winsurtech.com
SUMMARY:Christmas Day
DESCRIPTION:Christmas is an annual festival commemorating the birth of Jesus Christ\, observed primarily on December 25 as a religious and cultural celebration among billions of people around the world. A feast central to the Christian liturgical year\, it is preceded by the season of Advent or the Nativity Fast.
URL:https://winsurtech.com/festival-holidays/2025-december-holidays/
CATEGORIES:Holidays 2025
ATTACH;FMTTYPE=image/jpeg:https://winsurtech.com/wp-content/uploads/2024/12/Christmas-Day.jpg
END:VEVENT
END:VCALENDAR