BEGIN:VCALENDAR
VERSION:2.0
PRODID:-//WinsurTech | AL3, Virtual Assistants, ACORD Forms, ACORD XML, - ECPv6.15.11//NONSGML v1.0//EN
CALSCALE:GREGORIAN
METHOD:PUBLISH
X-ORIGINAL-URL:https://winsurtech.com
X-WR-CALDESC:Events for WinsurTech | AL3, Virtual Assistants, ACORD Forms, ACORD XML,
REFRESH-INTERVAL;VALUE=DURATION:PT1H
X-Robots-Tag:noindex
X-PUBLISHED-TTL:PT1H
BEGIN:VTIMEZONE
TZID:UTC
BEGIN:STANDARD
TZOFFSETFROM:+0000
TZOFFSETTO:+0000
TZNAME:UTC
DTSTART:20250101T000000
END:STANDARD
END:VTIMEZONE
BEGIN:VEVENT
DTSTART;VALUE=DATE:20260904
DTEND;VALUE=DATE:20260905
DTSTAMP:20260421T122749
CREATED:20251106T122730Z
LAST-MODIFIED:20251111T071913Z
UID:28339-1788480000-1788566399@winsurtech.com
SUMMARY:Shri Krishna Janmashtami
DESCRIPTION:Janmashtami – Krishna Janmashtami\, also known simply as Janmashtami or Gokulashtami\, is an annual Hindu festival that celebrates the birth of Krishna\, the eighth avatar of Lord Vishnu. According to the Hindu lunisolar calendar\, it is observed on the eighth tithi of the Krishna Paksha in Bhadrapada Masa.
URL:https://winsurtech.com/festival-holidays/september-holidays/
CATEGORIES:Holidays 2026
ATTACH;FMTTYPE=image/png:https://winsurtech.com/wp-content/uploads/2025/11/shri-krishna-janmashtami.png
END:VEVENT
END:VCALENDAR