BEGIN:VCALENDAR
VERSION:2.0
PRODID:-//WinsurTech | AL3, Virtual Assistants, ACORD Forms, ACORD XML, - ECPv6.15.11//NONSGML v1.0//EN
CALSCALE:GREGORIAN
METHOD:PUBLISH
X-ORIGINAL-URL:https://winsurtech.com
X-WR-CALDESC:Events for WinsurTech | AL3, Virtual Assistants, ACORD Forms, ACORD XML,
REFRESH-INTERVAL;VALUE=DURATION:PT1H
X-Robots-Tag:noindex
X-PUBLISHED-TTL:PT1H
BEGIN:VTIMEZONE
TZID:UTC
BEGIN:STANDARD
TZOFFSETFROM:+0000
TZOFFSETTO:+0000
TZNAME:UTC
DTSTART:20250101T000000
END:STANDARD
END:VTIMEZONE
BEGIN:VEVENT
DTSTART;VALUE=DATE:20261109
DTEND;VALUE=DATE:20261110
DTSTAMP:20260421T150322
CREATED:20251106T125424Z
LAST-MODIFIED:20251112T071356Z
UID:28345-1794182400-1794268799@winsurtech.com
SUMMARY:Diwali/Dipawali Holiday
DESCRIPTION:A day to prepare and embrace the festive spirit of Diwali with family and traditions. It marks the start of decorating homes\, lighting diyas\, and shopping for festivities.
URL:https://winsurtech.com/festival-holidays/2026-november-holidays/
CATEGORIES:Holidays 2026
ATTACH;FMTTYPE=image/png:https://winsurtech.com/wp-content/uploads/2025/11/pre-diwali.png
END:VEVENT
BEGIN:VEVENT
DTSTART;VALUE=DATE:20261110
DTEND;VALUE=DATE:20261111
DTSTAMP:20260421T150322
CREATED:20251107T044443Z
LAST-MODIFIED:20251112T071327Z
UID:28347-1794268800-1794355199@winsurtech.com
SUMMARY:Diwali/Dipawali Holiday
DESCRIPTION:The festival usually lasts five days and is celebrated during the Hindu lunisolar month Kartika (between mid-October and mid-November). One of the most popular festivals of Hinduism\, Diwali symbolizes the spiritual “victory of light over darkness\, good over evil\, and knowledge over ignorance”.
URL:https://winsurtech.com/festival-holidays/2026-diwali-holidays/
CATEGORIES:Holidays 2026
ATTACH;FMTTYPE=image/png:https://winsurtech.com/wp-content/uploads/2025/11/happy-dipawali-26.png
END:VEVENT
BEGIN:VEVENT
DTSTART;VALUE=DATE:20261124
DTEND;VALUE=DATE:20261125
DTSTAMP:20260421T150322
CREATED:20251107T045216Z
LAST-MODIFIED:20251107T045216Z
UID:28349-1795478400-1795564799@winsurtech.com
SUMMARY:Guru Nanak Jayanti
DESCRIPTION:Guru Nanak Gurpurab\, also known as Guru Nanak Prakash Utsav\, celebrates the birth of the first Sikh guru\, Guru Nanak Ji. One of the most celebrated and important Sikh gurus and the founder of Sikhism\, Guru Nanak Ji is highly revered by the Sikh community. This is one of the most sacred festivals in Sikhism\, or Sikhi. \nThe festivities in the Sikh religion revolve around the anniversaries of the 10 Sikh Gurus. These Gurus were responsible for shaping the beliefs of the Sikhs. Their birthdays\, known as Gurpurab\, are occasions for celebration and prayer among the Sikhs.
URL:https://winsurtech.com/festival-holidays/2026-guru-nanak-jayanti/
CATEGORIES:Holidays 2026
ATTACH;FMTTYPE=image/png:https://winsurtech.com/wp-content/uploads/2022/01/november.png
END:VEVENT
END:VCALENDAR