BEGIN:VCALENDAR
VERSION:2.0
PRODID:-//WinsurTech | AL3, Virtual Assistants, ACORD Forms, ACORD XML, - ECPv6.15.11//NONSGML v1.0//EN
CALSCALE:GREGORIAN
METHOD:PUBLISH
X-WR-CALNAME:WinsurTech | AL3, Virtual Assistants, ACORD Forms, ACORD XML,
X-ORIGINAL-URL:https://winsurtech.com
X-WR-CALDESC:Events for WinsurTech | AL3, Virtual Assistants, ACORD Forms, ACORD XML,
REFRESH-INTERVAL;VALUE=DURATION:PT1H
X-Robots-Tag:noindex
X-PUBLISHED-TTL:PT1H
BEGIN:VTIMEZONE
TZID:UTC
BEGIN:STANDARD
TZOFFSETFROM:+0000
TZOFFSETTO:+0000
TZNAME:UTC
DTSTART:20250101T000000
END:STANDARD
END:VTIMEZONE
BEGIN:VEVENT
DTSTART;VALUE=DATE:20261020
DTEND;VALUE=DATE:20261021
DTSTAMP:20260421T150344
CREATED:20251106T124836Z
LAST-MODIFIED:20251111T073305Z
UID:28343-1792454400-1792540799@winsurtech.com
SUMMARY:Dussehra
DESCRIPTION:Dussehra – Dussehra\, also called Dasara or Vijayadashami\, in Hinduism\, holiday marking the triumph of Rama\, an avatar of Vishnu\, over the 10-headed demon king Ravana\, who abducted Rama’s wife\, Sita. The festival’s name is derived from the Sanskrit words Dasha (“ten”) and hara (“defeat”).
URL:https://winsurtech.com/festival-holidays/2026-october-holidays/
CATEGORIES:Holidays 2026
ATTACH;FMTTYPE=image/png:https://winsurtech.com/wp-content/uploads/2025/11/Dussehra-26.png
END:VEVENT
END:VCALENDAR