BEGIN:VCALENDAR
VERSION:2.0
PRODID:-//WinsurTech | AL3, Virtual Assistants, ACORD Forms, ACORD XML, - ECPv6.15.11//NONSGML v1.0//EN
CALSCALE:GREGORIAN
METHOD:PUBLISH
X-ORIGINAL-URL:https://winsurtech.com
X-WR-CALDESC:Events for WinsurTech | AL3, Virtual Assistants, ACORD Forms, ACORD XML,
REFRESH-INTERVAL;VALUE=DURATION:PT1H
X-Robots-Tag:noindex
X-PUBLISHED-TTL:PT1H
BEGIN:VTIMEZONE
TZID:UTC
BEGIN:STANDARD
TZOFFSETFROM:+0000
TZOFFSETTO:+0000
TZNAME:UTC
DTSTART:20250101T000000
END:STANDARD
END:VTIMEZONE
BEGIN:VEVENT
DTSTART;VALUE=DATE:20261225
DTEND;VALUE=DATE:20261226
DTSTAMP:20260421T174844
CREATED:20251107T050313Z
LAST-MODIFIED:20251111T085951Z
UID:28353-1798156800-1798243199@winsurtech.com
SUMMARY:Christmas Day
DESCRIPTION:Christmas is an annual festival commemorating the birth of Jesus Christ\, observed primarily on December 25 as a religious and cultural celebration among billions of people around the world. A feast central to the Christian liturgical year\, it is preceded by the season of Advent or the Nativity Fast
URL:https://winsurtech.com/festival-holidays/2026-december-holidays/
CATEGORIES:Holidays 2026
ATTACH;FMTTYPE=image/png:https://winsurtech.com/wp-content/uploads/2025/11/merry-christmas-26.png
END:VEVENT
END:VCALENDAR